BEGIN:VCALENDAR
VERSION:2.0
PRODID:-//Montreal Assault Prevention Centre - ECPv6.15.20//NONSGML v1.0//EN
CALSCALE:GREGORIAN
METHOD:PUBLISH
X-WR-CALNAME:Montreal Assault Prevention Centre
X-ORIGINAL-URL:https://cpamapc.org/fr/
X-WR-CALDESC:Évènements pour Montreal Assault Prevention Centre
REFRESH-INTERVAL;VALUE=DURATION:PT1H
X-Robots-Tag:noindex
X-PUBLISHED-TTL:PT1H
BEGIN:VTIMEZONE
TZID:America/Toronto
BEGIN:DAYLIGHT
TZOFFSETFROM:-0500
TZOFFSETTO:-0400
TZNAME:EDT
DTSTART:20250309T070000
END:DAYLIGHT
BEGIN:STANDARD
TZOFFSETFROM:-0400
TZOFFSETTO:-0500
TZNAME:EST
DTSTART:20251102T060000
END:STANDARD
BEGIN:DAYLIGHT
TZOFFSETFROM:-0500
TZOFFSETTO:-0400
TZNAME:EDT
DTSTART:20260308T070000
END:DAYLIGHT
BEGIN:STANDARD
TZOFFSETFROM:-0400
TZOFFSETTO:-0500
TZNAME:EST
DTSTART:20261101T060000
END:STANDARD
BEGIN:DAYLIGHT
TZOFFSETFROM:-0500
TZOFFSETTO:-0400
TZNAME:EDT
DTSTART:20270314T070000
END:DAYLIGHT
BEGIN:STANDARD
TZOFFSETFROM:-0400
TZOFFSETTO:-0500
TZNAME:EST
DTSTART:20271107T060000
END:STANDARD
END:VTIMEZONE
BEGIN:VEVENT
DTSTART;TZID=America/Toronto:20260422T183000
DTEND;TZID=America/Toronto:20260422T200000
DTSTAMP:20260419T112117
CREATED:20260309T181450Z
LAST-MODIFIED:20260309T202641Z
UID:4186-1776882600-1776888000@cpamapc.org
SUMMARY:ACTION autodéfense pour femmes: entraînement armes corporelles
DESCRIPTION:Ce printemps\, l’équipe ACTION propose un entraînement d’armes corporelles pour les femmes qui ont complété le niveau 1 du cours d’autodéfense ACTION (1 journée complète ou 7 heures).  \n\n\n\nDate : mercredi 22 avril 2026Horaire: 18h30 à 20hLieu:  Montréal*Prix: 10$ par participante*Le lieu sera communiqué aux participantes inscrites après confirmation (environ une semaine avant le cours). Lieu accessible en fauteuil roulant; toilettes individuelles. Pour s’inscrire\, écrivez-nous à centre@cpamapc.org en mentionnant :votre nom completvotre courrielvotre numéro de téléphone Ou appelez-nous au 514 284-1212 (veuillez noter que nos bureaux sont fermés le vendredi).
URL:https://cpamapc.org/fr/class/action-autodefense-pour-femmes-entrainement-armes-corporelles/
ATTACH;FMTTYPE=image/png:https://cpamapc.org/wp-content/uploads/2026/02/entrainementAC_WP_avril2026_featuredimage-150-x-150-px.png
END:VEVENT
BEGIN:VEVENT
DTSTART;TZID=America/Toronto:20260502T093000
DTEND;TZID=America/Toronto:20260502T163000
DTSTAMP:20260419T112117
CREATED:20260318T151013Z
LAST-MODIFIED:20260318T151016Z
UID:4238-1777714200-1777739400@cpamapc.org
SUMMARY:Cours d'autodéfense pour femmes sur 2 journées
DESCRIPTION:Dates: samedis 2 et 9 mai 2026Horaire: 9 h 30 à 16 h 30 Lieu:  Montréal (L’adresse exacte sera communiquée aux personnes qui auront confirmé leur présence.)Prix: \n\n\n\n\nTarif régulier: 110$\n\n\n\nTarif solidaire: 130$\n\n\n\nTarif réduit: 20$ \n\n\n\n\nDétails: \n\n\n\n\nCours donné entièrement en français \n\n\n\nLieu accessible en fauteuil roulant\, toilettes individuelles. \n\n\n\n\nPour vous inscrire\, écrivez-nous à centre@cpamapc.org ou appelez-nous au 514 284-1212 en mentionnant : votre nom complet votre adresse courriel votre numéro de téléphone  \n\n\n\nVeuillez noter que nos bureaux sont fermés le vendredi. Veuillez aussi noter que ce cours est pour femmes adultes seulement. Nous offrons occasionnellement des cours spécialement conçus pour adolescentes\, mais il ne nous est pas possible d’admettre des ados de moins de 17 ans dans le cours adulte\, qui n’est pas approprié pour elles. 
URL:https://cpamapc.org/fr/class/cours-dautodefense-sur-2-journees-pour-femmes-3/
CATEGORIES:Action
ATTACH;FMTTYPE=image/png:https://cpamapc.org/wp-content/uploads/2026/03/VIGNETTE_ACTION_WP_MAI2026-150-x-150-px.png
END:VEVENT
END:VCALENDAR